BEGIN:VCALENDAR
VERSION:2.0
PRODID:-//Aidshilfe Ahlen e.V. - ECPv6.15.20//NONSGML v1.0//EN
CALSCALE:GREGORIAN
METHOD:PUBLISH
X-WR-CALNAME:Aidshilfe Ahlen e.V.
X-ORIGINAL-URL:https://www.aidshilfe-ahlen.de
X-WR-CALDESC:Veranstaltungen für Aidshilfe Ahlen e.V.
REFRESH-INTERVAL;VALUE=DURATION:PT1H
X-Robots-Tag:noindex
X-PUBLISHED-TTL:PT1H
BEGIN:VTIMEZONE
TZID:UTC
BEGIN:STANDARD
TZOFFSETFROM:+0000
TZOFFSETTO:+0000
TZNAME:UTC
DTSTART:20250101T000000
END:STANDARD
END:VTIMEZONE
BEGIN:VEVENT
DTSTART;TZID=UTC:20260420T100000
DTEND;TZID=UTC:20260420T160000
DTSTAMP:20260420T020135
CREATED:20260318T135818Z
LAST-MODIFIED:20260318T135818Z
UID:1844-1776679200-1776700800@www.aidshilfe-ahlen.de
SUMMARY:Schulung: Schnelltests ohne Ärzt*innen
DESCRIPTION:Schulung für Beraterinnen und Berater aus Aidshilfen\, Checkpoints\, Drogenhilfeeinrichtungen\, Aidsberatungsstellen und Gesundheitsämtern \nAnmeldung bei Mascha Zapf\, Mascha.Zapf@nrw.aidshilfe.de \nIm Rahmen des Masernschutzgesetzes\, das am 14. November 2019 im Bundestag beschlossen und am 20. Dezember gebilligt wurde\, kam es auch zu Änderungen in §24 Infektionsschutzgesetz und §4 der Medizinprodukteabgabeverordnung: Seit 1.3.2020 ist es in Aidshilfen\, Gesundheitsämtern\, Checkpoints\, Aids- und Drogenberatungsstellen möglich\, Schnelltests auf HIV\, Syphilis und Hepatitis C ohne ärztliche Aufsicht anzubieten und durchzuführen. Der Gesetzgeber reagierte einerseits auf den Ärztemangel\, der sich in diesem Feld besonders bzw. früher auswirkt und andererseits auf die Notwendigkeit\, eine bislang stabil hohe Zahl von unerkannten HIV- und Hepatitis-C-Infektionen zu reduzieren.\nDurch den Wegfall der ärztlichen Aufsicht geht die Verantwortung für die Testung auf die Mitarbeiter*innen der Checkpoints über. \nIm theoretischen Teil des Seminars geht es neben medizinischen Grundlagen zu den Schnelltests um die Aufgaben und Pflichten\, die mit der Übernahme der Verantwortung verbunden sind.\nIm praktischen Teil werden verschiedene Schnelltests durchgeführt und es erfolgt eine Einweisung in verschiedene Produkte entsprechend Medizinprodukteverordnung. \nDas Seminar ist auf 15 Teilnehmende begrenzt. \nBei erfolgreicher Teilnahme am Seminar werden 2 Zertifikate vergeben:\n– Qualifikationsnachweis für die Durchführung von Schnelltests ohne Ärzte/Ärztinnen\n– Einweisung in verschiedene Point-of-Care-Tests nach Medizinprodukteverordnung \nEine Übernahme von Reise- und Übernachtungskosten ist leider nicht möglich. \nDie Teilnahme ist kostenfrei.
URL:https://www.aidshilfe-ahlen.de/event/schulung-schnelltests-ohne-aerztinnen/
LOCATION:Aidshilfe Ahlen e.V.\, Königstr. 9\, 59227 Ahlen\, Königstr. 9\, Ahlen\, 59227\, Deutschland
ORGANIZER;CN="Deutsche Aidshilfe e.V.":MAILTO:dah@aidshilfe.de
END:VEVENT
END:VCALENDAR